Package: LegATo Version: 1.3.0 Command: /home/biocbuild/bbs-3.22-bioc/R/bin/R CMD build --keep-empty-dirs --no-resave-data LegATo StartedAt: 2025-07-15 11:26:23 -0400 (Tue, 15 Jul 2025) EndedAt: 2025-07-15 11:27:50 -0400 (Tue, 15 Jul 2025) EllapsedTime: 87.4 seconds RetCode: 0 Status: OK PackageFile: LegATo_1.3.0.tar.gz PackageFileSize: 1.236 MiB