Package: LegATo Version: 1.3.0 Command: /home/biocbuild/bbs-3.22-bioc/R/bin/R CMD INSTALL LegATo StartedAt: 2025-07-15 11:04:05 -0400 (Tue, 15 Jul 2025) EndedAt: 2025-07-15 11:04:26 -0400 (Tue, 15 Jul 2025) EllapsedTime: 20.3 seconds RetCode: 0 Status: OK