Package: LungCancerACvsSCCGEO Version: 1.45.0 Command: /home/biocbuild/bbs-3.22-bioc/R/bin/R CMD build --keep-empty-dirs --no-resave-data LungCancerACvsSCCGEO StartedAt: 2025-07-15 11:27:17 -0400 (Tue, 15 Jul 2025) EndedAt: 2025-07-15 11:30:46 -0400 (Tue, 15 Jul 2025) EllapsedTime: 209.0 seconds RetCode: 0 Status: OK PackageFile: LungCancerACvsSCCGEO_1.45.0.tar.gz PackageFileSize: 138.6 MiB