Package: MOFAdata Version: 1.25.0 Command: /home/biocbuild/bbs-3.22-bioc/R/bin/R CMD build --keep-empty-dirs --no-resave-data MOFAdata StartedAt: 2025-07-17 11:30:30 -0400 (Thu, 17 Jul 2025) EndedAt: 2025-07-17 11:31:11 -0400 (Thu, 17 Jul 2025) EllapsedTime: 40.5 seconds RetCode: 0 Status: OK PackageFile: MOFAdata_1.25.0.tar.gz PackageFileSize: 44.23 MiB