Package: MerfishData Version: 1.11.1 Command: /home/biocbuild/bbs-3.22-bioc/R/bin/R CMD INSTALL MerfishData StartedAt: 2025-07-15 10:59:18 -0400 (Tue, 15 Jul 2025) EndedAt: 2025-07-15 10:59:44 -0400 (Tue, 15 Jul 2025) EllapsedTime: 26.0 seconds RetCode: 0 Status: OK