Package: MetaScope Version: 1.9.3 Command: /home/biocbuild/bbs-3.22-bioc/R/bin/R CMD build --keep-empty-dirs --no-resave-data MetaScope StartedAt: 2025-07-15 11:29:22 -0400 (Tue, 15 Jul 2025) EndedAt: 2025-07-15 11:29:37 -0400 (Tue, 15 Jul 2025) EllapsedTime: 15.5 seconds RetCode: 1 Status: ERROR PackageFile: None PackageFileSize: NA