Package: MouseAgingData Version: 1.5.0 Command: /home/biocbuild/bbs-3.22-bioc/R/bin/R CMD INSTALL MouseAgingData StartedAt: 2025-07-15 10:58:12 -0400 (Tue, 15 Jul 2025) EndedAt: 2025-07-15 10:58:33 -0400 (Tue, 15 Jul 2025) EllapsedTime: 20.4 seconds RetCode: 0 Status: OK