Package: NGScopyData Version: 1.29.0 Command: /home/biocbuild/bbs-3.22-bioc/R/bin/R CMD build --keep-empty-dirs --no-resave-data NGScopyData StartedAt: 2025-07-15 11:32:47 -0400 (Tue, 15 Jul 2025) EndedAt: 2025-07-15 11:32:51 -0400 (Tue, 15 Jul 2025) EllapsedTime: 4.0 seconds RetCode: 0 Status: OK PackageFile: NGScopyData_1.29.0.tar.gz PackageFileSize: 37 MiB