Package: NetActivityData Version: 1.11.0 Command: /home/biocbuild/bbs-3.22-bioc/R/bin/R CMD INSTALL NetActivityData StartedAt: 2025-07-10 10:55:53 -0400 (Thu, 10 Jul 2025) EndedAt: 2025-07-10 10:55:57 -0400 (Thu, 10 Jul 2025) EllapsedTime: 4.3 seconds RetCode: 0 Status: OK