Package: Neve2006 Version: 0.47.0 Command: /home/biocbuild/bbs-3.22-bioc/R/bin/R CMD build --keep-empty-dirs --no-resave-data Neve2006 StartedAt: 2025-07-15 11:32:33 -0400 (Tue, 15 Jul 2025) EndedAt: 2025-07-15 11:33:04 -0400 (Tue, 15 Jul 2025) EllapsedTime: 30.9 seconds RetCode: 0 Status: OK PackageFile: Neve2006_0.47.0.tar.gz PackageFileSize: 67.92 MiB