Package: Neve2006 Version: 0.47.0 Command: /home/biocbuild/bbs-3.22-bioc/R/bin/R CMD INSTALL Neve2006 StartedAt: 2025-07-15 10:57:23 -0400 (Tue, 15 Jul 2025) EndedAt: 2025-07-15 10:57:39 -0400 (Tue, 15 Jul 2025) EllapsedTime: 15.9 seconds RetCode: 0 Status: OK