Package: PasillaTranscriptExpr Version: 1.37.0 Command: /home/biocbuild/bbs-3.22-bioc/R/bin/R CMD build --keep-empty-dirs --no-resave-data PasillaTranscriptExpr StartedAt: 2025-07-15 11:33:52 -0400 (Tue, 15 Jul 2025) EndedAt: 2025-07-15 11:34:08 -0400 (Tue, 15 Jul 2025) EllapsedTime: 16.0 seconds RetCode: 0 Status: OK PackageFile: PasillaTranscriptExpr_1.37.0.tar.gz PackageFileSize: 782.9 KiB