Package: PhyloProfileData Version: 1.23.3 Command: /home/biocbuild/bbs-3.22-bioc/R/bin/R CMD build --keep-empty-dirs --no-resave-data PhyloProfileData StartedAt: 2025-07-15 11:34:28 -0400 (Tue, 15 Jul 2025) EndedAt: 2025-07-15 11:35:03 -0400 (Tue, 15 Jul 2025) EllapsedTime: 34.6 seconds RetCode: 0 Status: OK PackageFile: PhyloProfileData_1.23.3.tar.gz PackageFileSize: 228 KiB