Package: ProteinGymR Version: 1.4.0 Command: /home/biocbuild/bbs-3.22-bioc/R/bin/R CMD build --keep-empty-dirs --no-resave-data ProteinGymR StartedAt: 2025-11-13 11:37:25 -0500 (Thu, 13 Nov 2025) EndedAt: 2025-11-13 11:41:26 -0500 (Thu, 13 Nov 2025) EllapsedTime: 241.0 seconds RetCode: 0 Status: OK PackageFile: ProteinGymR_1.4.0.tar.gz PackageFileSize: 2.023 MiB