Package: QDNAseq.hg19 Version: 1.39.0 Command: /home/biocbuild/bbs-3.22-bioc/R/bin/R CMD INSTALL QDNAseq.hg19 StartedAt: 2025-07-15 11:02:10 -0400 (Tue, 15 Jul 2025) EndedAt: 2025-07-15 11:02:23 -0400 (Tue, 15 Jul 2025) EllapsedTime: 12.4 seconds RetCode: 0 Status: OK