Package: RGMQLlib Version: 1.29.0 Command: /home/biocbuild/bbs-3.22-bioc/R/bin/R CMD build --keep-empty-dirs --no-resave-data RGMQLlib StartedAt: 2025-07-15 11:36:47 -0400 (Tue, 15 Jul 2025) EndedAt: 2025-07-15 11:36:59 -0400 (Tue, 15 Jul 2025) EllapsedTime: 11.6 seconds RetCode: 0 Status: OK PackageFile: RGMQLlib_1.29.0.tar.gz PackageFileSize: 86.08 MiB