Package: RMassBankData Version: 1.48.0 Command: /home/biocbuild/bbs-3.22-bioc/R/bin/R CMD INSTALL RMassBankData StartedAt: 2025-11-25 10:55:48 -0500 (Tue, 25 Nov 2025) EndedAt: 2025-11-25 10:55:50 -0500 (Tue, 25 Nov 2025) EllapsedTime: 2.2 seconds RetCode: 0 Status: OK