Package: RTCGA.PANCAN12 Version: 1.37.0 Command: /home/biocbuild/bbs-3.22-bioc/R/bin/R CMD INSTALL RTCGA.PANCAN12 StartedAt: 2025-07-15 11:03:54 -0400 (Tue, 15 Jul 2025) EndedAt: 2025-07-15 11:04:03 -0400 (Tue, 15 Jul 2025) EllapsedTime: 9.0 seconds RetCode: 0 Status: OK