Package: RTCGA.clinical Version: 20151101.40.0 Command: /home/biocbuild/bbs-3.22-bioc/R/bin/R CMD build --keep-empty-dirs --no-resave-data RTCGA.clinical StartedAt: 2025-10-30 11:49:34 -0400 (Thu, 30 Oct 2025) EndedAt: 2025-10-30 11:50:26 -0400 (Thu, 30 Oct 2025) EllapsedTime: 51.8 seconds RetCode: 0 Status: OK PackageFile: RTCGA.clinical_20151101.40.0.tar.gz PackageFileSize: 13.97 MiB