Package: RTCGA.clinical Version: 20151101.40.0 Command: /home/biocbuild/bbs-3.22-bioc/R/bin/R CMD INSTALL RTCGA.clinical StartedAt: 2025-10-30 11:08:06 -0400 (Thu, 30 Oct 2025) EndedAt: 2025-10-30 11:08:51 -0400 (Thu, 30 Oct 2025) EllapsedTime: 44.6 seconds RetCode: 0 Status: OK