Package: RTCGA.mRNA Version: 1.37.0 Command: /home/biocbuild/bbs-3.22-bioc/R/bin/R CMD build --keep-empty-dirs --no-resave-data RTCGA.mRNA StartedAt: 2025-07-10 11:39:46 -0400 (Thu, 10 Jul 2025) EndedAt: 2025-07-10 11:40:26 -0400 (Thu, 10 Jul 2025) EllapsedTime: 40.0 seconds RetCode: 0 Status: OK PackageFile: RTCGA.mRNA_1.37.0.tar.gz PackageFileSize: 84.98 MiB