Package: RTCGA.mRNA Version: 1.37.0 Command: /home/biocbuild/bbs-3.22-bioc/R/bin/R CMD INSTALL RTCGA.mRNA StartedAt: 2025-07-10 11:04:51 -0400 (Thu, 10 Jul 2025) EndedAt: 2025-07-10 11:05:25 -0400 (Thu, 10 Jul 2025) EllapsedTime: 33.5 seconds RetCode: 0 Status: OK