Package: RTCGA.methylation Version: 1.37.0 Command: /home/biocbuild/bbs-3.22-bioc/R/bin/R CMD INSTALL RTCGA.methylation StartedAt: 2025-07-15 11:03:54 -0400 (Tue, 15 Jul 2025) EndedAt: 2025-07-15 11:06:24 -0400 (Tue, 15 Jul 2025) EllapsedTime: 149.9 seconds RetCode: 0 Status: OK