Package: RTCGA.miRNASeq Version: 1.37.0 Command: /home/biocbuild/bbs-3.22-bioc/R/bin/R CMD build --keep-empty-dirs --no-resave-data RTCGA.miRNASeq StartedAt: 2025-07-17 11:38:43 -0400 (Thu, 17 Jul 2025) EndedAt: 2025-07-17 11:40:43 -0400 (Thu, 17 Jul 2025) EllapsedTime: 120.4 seconds RetCode: 0 Status: OK PackageFile: RTCGA.miRNASeq_1.37.0.tar.gz PackageFileSize: 45.24 MiB