Package: RTCGA.miRNASeq Version: 1.37.0 Command: /home/biocbuild/bbs-3.22-bioc/R/bin/R CMD INSTALL RTCGA.miRNASeq StartedAt: 2025-07-17 11:03:50 -0400 (Thu, 17 Jul 2025) EndedAt: 2025-07-17 11:05:36 -0400 (Thu, 17 Jul 2025) EllapsedTime: 105.9 seconds RetCode: 0 Status: OK