Package: RTCGA.rnaseq Version: 20151101.39.0 Command: /home/biocbuild/bbs-3.22-bioc/R/bin/R CMD build --keep-empty-dirs --no-resave-data RTCGA.rnaseq StartedAt: 2025-07-15 11:38:55 -0400 (Tue, 15 Jul 2025) EndedAt: 2025-07-15 11:42:25 -0400 (Tue, 15 Jul 2025) EllapsedTime: 209.9 seconds RetCode: 0 Status: OK PackageFile: RTCGA.rnaseq_20151101.39.0.tar.gz PackageFileSize: 612.6 MiB