Package: RTCGA.rnaseq Version: 20151101.39.0 Command: /home/biocbuild/bbs-3.22-bioc/R/bin/R CMD INSTALL RTCGA.rnaseq StartedAt: 2025-07-15 11:04:03 -0400 (Tue, 15 Jul 2025) EndedAt: 2025-07-15 11:06:45 -0400 (Tue, 15 Jul 2025) EllapsedTime: 161.5 seconds RetCode: 0 Status: OK