Package: RegParallel Version: 1.27.0 Command: /home/biocbuild/bbs-3.22-bioc/R/bin/R CMD build --keep-empty-dirs --no-resave-data RegParallel StartedAt: 2025-07-15 11:36:14 -0400 (Tue, 15 Jul 2025) EndedAt: 2025-07-15 11:42:48 -0400 (Tue, 15 Jul 2025) EllapsedTime: 393.8 seconds RetCode: 0 Status: OK PackageFile: RegParallel_1.27.0.tar.gz PackageFileSize: 634.5 KiB