Package: RforProteomics Version: 1.47.0 Command: /home/biocbuild/bbs-3.22-bioc/R/bin/R CMD INSTALL RforProteomics StartedAt: 2025-07-15 11:00:10 -0400 (Tue, 15 Jul 2025) EndedAt: 2025-07-15 11:00:45 -0400 (Tue, 15 Jul 2025) EllapsedTime: 35.4 seconds RetCode: 0 Status: OK