Package: RnBeads.hg19 Version: 1.41.0 Command: /home/biocbuild/bbs-3.22-bioc/R/bin/R CMD build --keep-empty-dirs --no-resave-data RnBeads.hg19 StartedAt: 2025-07-15 11:37:29 -0400 (Tue, 15 Jul 2025) EndedAt: 2025-07-15 11:37:35 -0400 (Tue, 15 Jul 2025) EllapsedTime: 6.6 seconds RetCode: 0 Status: OK PackageFile: RnBeads.hg19_1.41.0.tar.gz PackageFileSize: 100.1 MiB