Package: RnBeads.hg19 Version: 1.41.0 Command: /home/biocbuild/bbs-3.22-bioc/R/bin/R CMD INSTALL RnBeads.hg19 StartedAt: 2025-07-15 10:58:01 -0400 (Tue, 15 Jul 2025) EndedAt: 2025-07-15 10:58:09 -0400 (Tue, 15 Jul 2025) EllapsedTime: 7.9 seconds RetCode: 0 Status: OK