Package: RnBeads.mm10 Version: 2.17.0 Command: /home/biocbuild/bbs-3.22-bioc/R/bin/R CMD INSTALL RnBeads.mm10 StartedAt: 2025-07-17 11:02:28 -0400 (Thu, 17 Jul 2025) EndedAt: 2025-07-17 11:02:35 -0400 (Thu, 17 Jul 2025) EllapsedTime: 7.7 seconds RetCode: 0 Status: OK