Package: RnBeads.mm9 Version: 1.42.0 Command: /home/biocbuild/bbs-3.22-bioc/R/bin/R CMD INSTALL RnBeads.mm9 StartedAt: 2025-10-30 10:59:22 -0400 (Thu, 30 Oct 2025) EndedAt: 2025-10-30 10:59:37 -0400 (Thu, 30 Oct 2025) EllapsedTime: 14.9 seconds RetCode: 0 Status: OK