Package: RnBeads.rn5 Version: 1.42.0 Command: /home/biocbuild/bbs-3.22-bioc/R/bin/R CMD INSTALL RnBeads.rn5 StartedAt: 2025-11-20 10:58:24 -0500 (Thu, 20 Nov 2025) EndedAt: 2025-11-20 10:58:32 -0500 (Thu, 20 Nov 2025) EllapsedTime: 8.4 seconds RetCode: 0 Status: OK