Package: RnaSeqSampleSizeData Version: 1.41.0 Command: /home/biocbuild/bbs-3.22-bioc/R/bin/R CMD INSTALL RnaSeqSampleSizeData StartedAt: 2025-07-15 10:56:27 -0400 (Tue, 15 Jul 2025) EndedAt: 2025-07-15 10:56:30 -0400 (Tue, 15 Jul 2025) EllapsedTime: 2.6 seconds RetCode: 0 Status: OK