Package: SFEData Version: 1.12.0 Command: /home/biocbuild/bbs-3.22-bioc/R/bin/R CMD build --keep-empty-dirs --no-resave-data SFEData StartedAt: 2025-11-13 11:43:31 -0500 (Thu, 13 Nov 2025) EndedAt: 2025-11-13 11:44:09 -0500 (Thu, 13 Nov 2025) EllapsedTime: 38.1 seconds RetCode: 0 Status: OK PackageFile: SFEData_1.12.0.tar.gz PackageFileSize: 256.9 KiB