Package: STexampleData Version: 1.17.0 Command: /home/biocbuild/bbs-3.22-bioc/R/bin/R CMD INSTALL STexampleData StartedAt: 2025-07-15 10:58:43 -0400 (Tue, 15 Jul 2025) EndedAt: 2025-07-15 10:59:12 -0400 (Tue, 15 Jul 2025) EllapsedTime: 28.9 seconds RetCode: 0 Status: OK