Package: SVM2CRMdata Version: 1.42.0 Command: /home/biocbuild/bbs-3.22-bioc/R/bin/R CMD build --keep-empty-dirs --no-resave-data SVM2CRMdata StartedAt: 2025-11-20 11:47:33 -0500 (Thu, 20 Nov 2025) EndedAt: 2025-11-20 11:50:55 -0500 (Thu, 20 Nov 2025) EllapsedTime: 202.3 seconds RetCode: 0 Status: OK PackageFile: SVM2CRMdata_1.42.0.tar.gz PackageFileSize: 345 MiB