Package: Single.mTEC.Transcriptomes Version: 1.37.0 Command: /home/biocbuild/bbs-3.22-bioc/R/bin/R CMD build --keep-empty-dirs --no-resave-data Single.mTEC.Transcriptomes StartedAt: 2025-07-15 11:41:44 -0400 (Tue, 15 Jul 2025) EndedAt: 2025-07-15 11:45:45 -0400 (Tue, 15 Jul 2025) EllapsedTime: 240.9 seconds RetCode: 1 Status: ERROR PackageFile: None PackageFileSize: NA