Package: Single.mTEC.Transcriptomes Version: 1.37.0 Command: /home/biocbuild/bbs-3.22-bioc/R/bin/R CMD INSTALL Single.mTEC.Transcriptomes StartedAt: 2025-07-15 10:55:47 -0400 (Tue, 15 Jul 2025) EndedAt: 2025-07-15 10:55:50 -0400 (Tue, 15 Jul 2025) EllapsedTime: 3.4 seconds RetCode: 0 Status: OK