Package: SingleCellMultiModal Version: 1.21.3 Command: /home/biocbuild/bbs-3.22-bioc/R/bin/R CMD build --keep-empty-dirs --no-resave-data SingleCellMultiModal StartedAt: 2025-07-15 11:41:45 -0400 (Tue, 15 Jul 2025) EndedAt: 2025-07-15 11:47:48 -0400 (Tue, 15 Jul 2025) EllapsedTime: 362.5 seconds RetCode: 0 Status: OK PackageFile: SingleCellMultiModal_1.21.3.tar.gz PackageFileSize: 2.853 MiB