Package: SingleCellMultiModal Version: 1.21.3 Command: /home/biocbuild/bbs-3.22-bioc/R/bin/R CMD INSTALL SingleCellMultiModal StartedAt: 2025-07-15 10:58:56 -0400 (Tue, 15 Jul 2025) EndedAt: 2025-07-15 10:59:27 -0400 (Tue, 15 Jul 2025) EllapsedTime: 30.6 seconds RetCode: 0 Status: OK