Package: SingleMoleculeFootprintingData Version: 1.18.0 Command: /home/biocbuild/bbs-3.22-bioc/R/bin/R CMD build --keep-empty-dirs --no-resave-data SingleMoleculeFootprintingData StartedAt: 2025-11-13 11:43:55 -0500 (Thu, 13 Nov 2025) EndedAt: 2025-11-13 11:44:13 -0500 (Thu, 13 Nov 2025) EllapsedTime: 17.6 seconds RetCode: 0 Status: OK PackageFile: SingleMoleculeFootprintingData_1.18.0.tar.gz PackageFileSize: 20.08 KiB