Package: SingleMoleculeFootprintingData Version: 1.18.0 Command: /home/biocbuild/bbs-3.22-bioc/R/bin/R CMD INSTALL SingleMoleculeFootprintingData StartedAt: 2025-11-18 10:58:00 -0500 (Tue, 18 Nov 2025) EndedAt: 2025-11-18 10:58:09 -0500 (Tue, 18 Nov 2025) EllapsedTime: 9.3 seconds RetCode: 0 Status: OK