Package: SomaticCancerAlterations Version: 1.45.0 Command: /home/biocbuild/bbs-3.22-bioc/R/bin/R CMD build --keep-empty-dirs --no-resave-data SomaticCancerAlterations StartedAt: 2025-07-10 11:43:39 -0400 (Thu, 10 Jul 2025) EndedAt: 2025-07-10 11:44:07 -0400 (Thu, 10 Jul 2025) EllapsedTime: 27.6 seconds RetCode: 0 Status: OK PackageFile: SomaticCancerAlterations_1.45.0.tar.gz PackageFileSize: 4.442 MiB