Package: SubcellularSpatialData Version: 1.5.0 Command: /home/biocbuild/bbs-3.22-bioc/R/bin/R CMD build --keep-empty-dirs --no-resave-data SubcellularSpatialData StartedAt: 2025-07-15 11:42:32 -0400 (Tue, 15 Jul 2025) EndedAt: 2025-07-15 11:43:40 -0400 (Tue, 15 Jul 2025) EllapsedTime: 67.9 seconds RetCode: 0 Status: OK PackageFile: SubcellularSpatialData_1.5.0.tar.gz PackageFileSize: 2.311 MiB