Package: TCGAWorkflowData Version: 1.33.0 Command: /home/biocbuild/bbs-3.22-bioc/R/bin/R CMD INSTALL TCGAWorkflowData StartedAt: 2025-07-15 11:03:35 -0400 (Tue, 15 Jul 2025) EndedAt: 2025-07-15 11:04:36 -0400 (Tue, 15 Jul 2025) EllapsedTime: 60.8 seconds RetCode: 0 Status: OK