Package: TCGAbiolinksGUI.data Version: 1.29.0 Command: /home/biocbuild/bbs-3.22-bioc/R/bin/R CMD build --keep-empty-dirs --no-resave-data TCGAbiolinksGUI.data StartedAt: 2025-07-17 11:44:36 -0400 (Thu, 17 Jul 2025) EndedAt: 2025-07-17 11:45:09 -0400 (Thu, 17 Jul 2025) EllapsedTime: 33.1 seconds RetCode: 0 Status: OK PackageFile: TCGAbiolinksGUI.data_1.29.0.tar.gz PackageFileSize: 21.86 MiB