Package: TCGAcrcmiRNA Version: 1.29.0 Command: /home/biocbuild/bbs-3.22-bioc/R/bin/R CMD build --keep-empty-dirs --no-resave-data TCGAcrcmiRNA StartedAt: 2025-07-15 11:44:01 -0400 (Tue, 15 Jul 2025) EndedAt: 2025-07-15 11:44:07 -0400 (Tue, 15 Jul 2025) EllapsedTime: 5.4 seconds RetCode: 0 Status: OK PackageFile: TCGAcrcmiRNA_1.29.0.tar.gz PackageFileSize: 925 KiB