Package: TCGAcrcmiRNA Version: 1.29.0 Command: /home/biocbuild/bbs-3.22-bioc/R/bin/R CMD INSTALL TCGAcrcmiRNA StartedAt: 2025-07-15 10:56:05 -0400 (Tue, 15 Jul 2025) EndedAt: 2025-07-15 10:56:08 -0400 (Tue, 15 Jul 2025) EllapsedTime: 2.8 seconds RetCode: 0 Status: OK